BEGIN:VCALENDAR
VERSION:2.0
PRODID:-//Eventin//Event Calendar//EN
CALSCALE:GREGORIAN
METHOD:PUBLISH
BEGIN:VEVENT
UID:b67289f8b4b09066cd26e6777c3d12bb@thewoodsman-haven.com
SUMMARY:MAYHEM: A Raucous Romp at the Woodstock Woodsman
DESCRIPTION:Spring has sprung and so have we. This May\, the woods awaken a
 nd so do your instincts. Step into a night where energy builds and every gl
 ance carries a little more intention.\nMAYHEM is a celebration of untamed c
 onnection: bodies warmed by the steam\, and chemistry that refuses to stay 
 subtle. This is your invitation to let go\, lean in and see where the night
  takes you.\nMove between the hot tub\, the steam room and the shadows of t
 he forest over the pool.\nNo pressure\, no expectations. Just good energy\,
  great company\, and perhaps some beautifully orchestrated chaos. Come curi
 ous. Leave unraveled.\nTickets include access to our onsite amenities (stea
 m room\, hot tub\, etc)\, snacks and non-alcoholic refreshments - you are w
 elcome to BYOB any adult beverages you wish to enjoy responsibly.\n This i
 s a clothing-optional event for all men\, including trans men ages 21 and o
 ver.
LOCATION:The Woodsman
DTSTAMP:20260423T140458Z
DTSTART:20260502T230000Z
DTEND:20260503T040000Z
END:VEVENT
END:VCALENDAR
